BEGIN:VCALENDAR
VERSION:2.0
PRODID:-//Global Women in Leadership Alliance™ - ECPv6.15.20//NONSGML v1.0//EN
CALSCALE:GREGORIAN
METHOD:PUBLISH
X-WR-CALNAME:Global Women in Leadership Alliance™
X-ORIGINAL-URL:https://womenleadglobal.org
X-WR-CALDESC:Events for Global Women in Leadership Alliance™
REFRESH-INTERVAL;VALUE=DURATION:PT1H
X-Robots-Tag:noindex
X-PUBLISHED-TTL:PT1H
BEGIN:VTIMEZONE
TZID:America/Toronto
BEGIN:DAYLIGHT
TZOFFSETFROM:-0500
TZOFFSETTO:-0400
TZNAME:EDT
DTSTART:20250309T070000
END:DAYLIGHT
BEGIN:STANDARD
TZOFFSETFROM:-0400
TZOFFSETTO:-0500
TZNAME:EST
DTSTART:20251102T060000
END:STANDARD
BEGIN:DAYLIGHT
TZOFFSETFROM:-0500
TZOFFSETTO:-0400
TZNAME:EDT
DTSTART:20260308T070000
END:DAYLIGHT
BEGIN:STANDARD
TZOFFSETFROM:-0400
TZOFFSETTO:-0500
TZNAME:EST
DTSTART:20261101T060000
END:STANDARD
BEGIN:DAYLIGHT
TZOFFSETFROM:-0500
TZOFFSETTO:-0400
TZNAME:EDT
DTSTART:20270314T070000
END:DAYLIGHT
BEGIN:STANDARD
TZOFFSETFROM:-0400
TZOFFSETTO:-0500
TZNAME:EST
DTSTART:20271107T060000
END:STANDARD
END:VTIMEZONE
BEGIN:VEVENT
DTSTART;TZID=America/Toronto:20260305T123000
DTEND;TZID=America/Toronto:20260305T133000
DTSTAMP:20260421T160334
CREATED:20260220T195720Z
LAST-MODIFIED:20260224T165427Z
UID:12581-1772713800-1772717400@womenleadglobal.org
SUMMARY:Transform Stress into Resilience - Leadership Roundtable
DESCRIPTION:The world can feel particularly heavy these days. Especially as women and nonbinary folks who already have so much on our shoulders. The Global Women in Leadership AllianceTM  and Yinergy Acupuncture want to help.\n\nIn honor of International Women’s Day\, we’re coming together to learn from Dr. Hannah Zeleznikar\, L.Ac\, owner of Yinergy Acupuncture in Minneapolis. She’ll share practical acupressure and nutrition tools you can use yourself to help manage stress and build resilience.\n\nThis is for the overachieving women leaders who know burnout is real and are ready for better tools. Full transparency: I’m not just hosting this one — I’m a patient of our speaker\, Dr. Hannah. Her work has genuinely changed how I manage stress and show up as a leader and I’m excited to share her wisdom with you!\n\nEVENT DETAILS: \nAgenda\n\n 	\n Global Women in Leadership Alliance™  Overview Morgan Berg\, Regional Director and Lucy Jeffrey B.ED\, President and CEO\n\n 	\nKeynote: “Transforming Stress into Resilience using Traditional Chinese Medicine” Dr. Hannah Zeleznikar\, L.Ac\, owner of Yinergy Acupuncture\n 	\nFacilitator-led breakout groups \n 	\nReconvene for large group sharing\n 	\nClose\n\n \nAccess\n\n 	\nZoom Link: To be provided to those registered\n 	\n\n\n\nNotes\n\n 	\nThis session will not be recorded. The Global Women in Leadership Alliance doesn’t record events because we aim to create a safe space for women and nonbinary folks to share their stories\, struggles\, and wisdom without the fear of it being shared with the world.\n 	\nPlease be prepared for cameras on\, if at all possible.\n\n\nI look forward to seeing you all there!\n\nKindly\,\nMorgan Berg\n\nRegional Director — Minnesota\, USA\nGlobal Women in Leadership AllianceTM\n612.810.0107\n\nAdvancing Women Leaders – Globally\nSite: Global Women in Leadership Alliance — Minnesota \n 
URL:https://womenleadglobal.org/event/transform-stress-into-resilience-leadership-roundtable/
CATEGORIES:Speaker Series
ATTACH;FMTTYPE=image/png:https://womenleadglobal.org/wp-content/uploads/2026/02/GWILA-SPEAKER-SERIES-4.png
END:VEVENT
BEGIN:VEVENT
DTSTART;TZID=America/Toronto:20260318T123000
DTEND;TZID=America/Toronto:20260318T133000
DTSTAMP:20260421T160334
CREATED:20260222T134014Z
LAST-MODIFIED:20260225T120422Z
UID:12611-1773837000-1773840600@womenleadglobal.org
SUMMARY:International Women’s Month | Women in Law and Leadership – Lessons from the Bench
DESCRIPTION:Global Women in Leadership Alliance™ – International Women’s Month Speaker Series\n\n\n\nEvent Overview\nAs part of International Women’s Month\, the Global Women in Leadership Alliance™ is honored to welcome Judge Caroline Tomlinson-Pemberton\, District Court Judge in the State of North Carolina\, for a special leadership session focused on women in leadership and the lessons that can be learned from the judiciary.\nThis session will provide a unique opportunity to hear from a distinguished woman in public service whose work requires sound judgment\, integrity\, and strong leadership. Judge Tomlinson-Pemberton will share insights from her professional journey and the leadership lessons she has gained while serving on the bench.\nWomen across industries will benefit from hearing how leadership principles such as integrity\, accountability\, fairness\, and resilience apply not only in the courtroom but also in business and professional life.\nThis session is designed for women leaders\, entrepreneurs\, executives\, and professionals who want to strengthen their leadership capacity and learn from experienced women who hold positions of responsibility and influence.\n\n\n\nFeatured Speaker\nJudge Caroline Tomlinson-Pemberton\nDistrict Court Judge\nState of North Carolina\, USA\nJudge Tomlinson-Pemberton serves as a District Court Judge in North Carolina\, where she presides over matters requiring thoughtful decision-making\, fairness\, and a deep commitment to justice. Her work reflects the highest standards of professional integrity and public service.\nThrough this session\, she will share leadership insights and experiences that have shaped her career and her approach to decision-making and responsibility.\n\n\n\nLearning Highlights\nParticipants will gain insights into:\n\n 	\nLeadership lessons from the judiciary\n 	\nEthical decision-making and professional responsibility\n 	\nWomen in positions of authority and influence\n 	\nResilience in high-responsibility roles\n 	\nLeadership grounded in integrity and accountability\n\n\n\n\nWho Should Attend\nThis session is ideal for:\n\n 	\nWomen leaders and executives\n 	\nEntrepreneurs and business owners\n 	\nProfessionals and managers\n 	\nEmerging leaders\n 	\nWomen interested in leadership development\n\n\n\n\nDate: March 18\, 2026\nTime: 12:30 p.m. – 1:00 p.m. Eastern Time\nFormat: Virtual Leadership Session\nHost: Global Women in Leadership Alliance™\nSpeaker: Judge Caroline Tomlinson-Pemberton\nDistrict Court Judge\, State of North Carolina\, USA\n\n\n\n\n\n\nRegistration\nRegistration is required.\nMembers of Global Women in Leadership Alliance™ will receive access through the regular member event calendar.\nGuests are welcome to attend and experience the Global Women in Leadership Alliance™ community.\n\n\n\nAbout Global Women in Leadership Alliance™\nThe Global Women in Leadership Alliance™ is an international leadership network connecting women leaders across multiple countries. The Alliance provides leadership development\, global networking\, and professional growth opportunities through structured leadership sessions and collaborative learning experiences.\nWarm regards\,\nLucy Jeffrey\, B.Ed.\nNational Director\nGlobal Women in Leadership Alliance™\nhttps://womenleadglobal.org/
URL:https://womenleadglobal.org/event/international-womens-month-global-women-in-leadership-alliance/
ATTACH;FMTTYPE=image/png:https://womenleadglobal.org/wp-content/uploads/2026/02/1771959587333.png
ORGANIZER;CN="Lucy Jeffrey":MAILTO:lucy@womenleadglobal.org
END:VEVENT
BEGIN:VEVENT
DTSTART;TZID=America/Toronto:20260319T123000
DTEND;TZID=America/Toronto:20260319T133000
DTSTAMP:20260421T160334
CREATED:20260222T132107Z
LAST-MODIFIED:20260224T171051Z
UID:12606-1773923400-1773927000@womenleadglobal.org
SUMMARY:Leadership\, Reinvention & Building Businesses That Create Impact
DESCRIPTION:We are thrilled to invite you to our upcoming Global Women in Leadership Alliance™ session on March 19th\, featuring an inspiring fireside chat with Constanza Safatle Ferrari\, Founder & CEO of Newbornlander.\n\nShe’s won numerous awards and was on Canada’s Dragon’s Den (US equivalent of Shark Tank)\, and has agreed to join us on March 19th for a fireside chat on Leadership\, Reinvention & Building Businesses That Create Impact.\n\n Please save the date in your calendars.\n\nDate: Thursday March 19th\n\nTime:\n10:00am – 11:00am (CST)\n11:00am -12:00pm (EST)\n12:30pm – 1:30pm  (NST) – Newfoundland time\n\n\nBio:\nConstanza Safatle\nFounder & CEO\, Newbornlander\nConstanza Safatle is a mission-driven entrepreneur and social-impact leader dedicated to empowering newcomer and refugee women in Canada. Originally a commercial lawyer in Chile\, Constanza moved to Newfoundland and Labrador and had to reinvent her professional path. What began as sewing baby accessories for her own children evolved into Newbornlander\, a nationally recognized\, Canadian-made baby brand — and the first private-sector settlement-employment program for refugee women in the province.\nHer work sits at the intersection of economic development\, inclusive hiring\, sustainable manufacturing\, and women’s empowerment\, and she collaborates with government\, industry\, and community partners to create pathways for newcomers to thrive.\nConstanza’s leadership and impact have been recognized nationally:\n• Changemaker of the Year 2025 (NLOWE)\n• 10 Most Influential Hispanics in Canada 2025\n• 25 Most Powerful Women in Atlantic Canada\n• G20 YEA Canadian Delegate (2024–2025)\n• Canada Post Tales of Triumph National Winner\n• Featured on Dragon’s Den\, securing support from one of the Dragons\nThrough Newbornlander\, she continues to create meaningful employment opportunities\, integrate newcomer women into society\, and inspire leadership that blends purpose\, resilience\, and impact.\n—\n\n\n\nBest regards\,\n\nPamela Miranda\, CPA CA\n\nAdvancing Women Leaders – Globally\nSite: https://ontario.womenleadglobal.org/
URL:https://womenleadglobal.org/event/leadership-reinvention-building-businesses-that-create-impact/
ATTACH;FMTTYPE=image/png:https://womenleadglobal.org/wp-content/uploads/2026/02/GWILA-SPEAKER-SERIES-March-19th-2026.png
END:VEVENT
BEGIN:VEVENT
DTSTART;TZID=America/Toronto:20260326T123000
DTEND;TZID=America/Toronto:20260326T133000
DTSTAMP:20260421T160334
CREATED:20260222T134332Z
LAST-MODIFIED:20260224T190056Z
UID:12614-1774528200-1774531800@womenleadglobal.org
SUMMARY:International Women’s Month - Closing Keynote Speaker
DESCRIPTION:On behalf of the Global Women in Leadership Alliance™\, I would be honoured to invite you to speak during our International Women’s Month Virtual Women in Leadership Summit.\n\nAs Founder of the Global Women in Leadership Alliance™\, I created this platform to bring women leaders together in a supportive environment where they can grow\, connect\, and strengthen their leadership capacity. Through my work with The Entrepreneur Nation®\, I recognized the need for a dedicated platform focused specifically on advancing women in leadership and entrepreneurship. Today\, the Alliance brings together women leaders and entrepreneurs primarily from Canada and the United States through training\, mentorship\, and global networking initiatives.\n\nThroughout the month of March\, we are hosting a series of International Women’s Month leadership sessions featuring distinguished speakers from the public sector\, the judiciary\, and the professional community. Our Virtual Summit in the final week of March will serve as the culminating event\, and we would be especially honoured to have you join us as our featured speaker.\nGiven your role as Federal Minister responsible for women\, gender equality\, and small business\, we believe your voice would be especially meaningful in closing this month of leadership programming and speaking directly to women across Canada and beyond.\nWe would be honoured if you would join us on:\nThursday\, March 26 at 12:30 p.m. Eastern Time\n\nThe session will run for approximately one hour\, and we would be pleased to have you speak for 20–30 minutes\, followed by brief questions if your schedule permits.\nIf the proposed date is not convenient\, we would be pleased to work within your availability and would be happy to schedule the session on another day during the final week of March at a similar time.\nPossible topics that may resonate well with our audience include:\n• Women in Leadership and Public Service\n• Empowering Women Through Economic Opportunity\n• Leadership Pathways for Women in Canada\n• Supporting Diverse and Underrepresented Women Leaders\n• Your Personal Leadership Journey and Lessons Learned\nOf course\, we would be happy to align with any topic you feel would be most meaningful.\nThank you for your time and consideration. I would be pleased to provide any additional information your office may require\, and upon confirmation we will be happy to formally announce your participation and invite women across our network to join the session.\nWarm regards\,\nLucy Jeffrey\nPresident & CEO\nGlobal Women in Leadership Alliance™\nhttps://womenleadglobal.org
URL:https://womenleadglobal.org/event/international-womens-month-closing-keynote-speaker/
ATTACH;FMTTYPE=image/png:https://womenleadglobal.org/wp-content/uploads/2026/02/GWILA-Monthly-Speaker-Series-2026-2-1.png
END:VEVENT
END:VCALENDAR