BEGIN:VCALENDAR
VERSION:2.0
PRODID:-//Global Women in Leadership Alliance™ - ECPv6.15.20//NONSGML v1.0//EN
CALSCALE:GREGORIAN
METHOD:PUBLISH
X-WR-CALNAME:Global Women in Leadership Alliance™
X-ORIGINAL-URL:https://womenleadglobal.org
X-WR-CALDESC:Events for Global Women in Leadership Alliance™
REFRESH-INTERVAL;VALUE=DURATION:PT1H
X-Robots-Tag:noindex
X-PUBLISHED-TTL:PT1H
BEGIN:VTIMEZONE
TZID:America/Toronto
BEGIN:DAYLIGHT
TZOFFSETFROM:-0500
TZOFFSETTO:-0400
TZNAME:EDT
DTSTART:20190310T070000
END:DAYLIGHT
BEGIN:STANDARD
TZOFFSETFROM:-0400
TZOFFSETTO:-0500
TZNAME:EST
DTSTART:20191103T060000
END:STANDARD
BEGIN:DAYLIGHT
TZOFFSETFROM:-0500
TZOFFSETTO:-0400
TZNAME:EDT
DTSTART:20200308T070000
END:DAYLIGHT
BEGIN:STANDARD
TZOFFSETFROM:-0400
TZOFFSETTO:-0500
TZNAME:EST
DTSTART:20201101T060000
END:STANDARD
BEGIN:DAYLIGHT
TZOFFSETFROM:-0500
TZOFFSETTO:-0400
TZNAME:EDT
DTSTART:20210314T070000
END:DAYLIGHT
BEGIN:STANDARD
TZOFFSETFROM:-0400
TZOFFSETTO:-0500
TZNAME:EST
DTSTART:20211107T060000
END:STANDARD
BEGIN:DAYLIGHT
TZOFFSETFROM:-0500
TZOFFSETTO:-0400
TZNAME:EDT
DTSTART:20220313T070000
END:DAYLIGHT
BEGIN:STANDARD
TZOFFSETFROM:-0400
TZOFFSETTO:-0500
TZNAME:EST
DTSTART:20221106T060000
END:STANDARD
BEGIN:DAYLIGHT
TZOFFSETFROM:-0500
TZOFFSETTO:-0400
TZNAME:EDT
DTSTART:20230312T070000
END:DAYLIGHT
BEGIN:STANDARD
TZOFFSETFROM:-0400
TZOFFSETTO:-0500
TZNAME:EST
DTSTART:20231105T060000
END:STANDARD
BEGIN:DAYLIGHT
TZOFFSETFROM:-0500
TZOFFSETTO:-0400
TZNAME:EDT
DTSTART:20240310T070000
END:DAYLIGHT
BEGIN:STANDARD
TZOFFSETFROM:-0400
TZOFFSETTO:-0500
TZNAME:EST
DTSTART:20241103T060000
END:STANDARD
BEGIN:DAYLIGHT
TZOFFSETFROM:-0500
TZOFFSETTO:-0400
TZNAME:EDT
DTSTART:20250309T070000
END:DAYLIGHT
BEGIN:STANDARD
TZOFFSETFROM:-0400
TZOFFSETTO:-0500
TZNAME:EST
DTSTART:20251102T060000
END:STANDARD
BEGIN:DAYLIGHT
TZOFFSETFROM:-0500
TZOFFSETTO:-0400
TZNAME:EDT
DTSTART:20260308T070000
END:DAYLIGHT
BEGIN:STANDARD
TZOFFSETFROM:-0400
TZOFFSETTO:-0500
TZNAME:EST
DTSTART:20261101T060000
END:STANDARD
BEGIN:DAYLIGHT
TZOFFSETFROM:-0500
TZOFFSETTO:-0400
TZNAME:EDT
DTSTART:20270314T070000
END:DAYLIGHT
BEGIN:STANDARD
TZOFFSETFROM:-0400
TZOFFSETTO:-0500
TZNAME:EST
DTSTART:20271107T060000
END:STANDARD
END:VTIMEZONE
BEGIN:VEVENT
DTSTART;TZID=America/Toronto:20260305T123000
DTEND;TZID=America/Toronto:20260305T133000
DTSTAMP:20260421T213309
CREATED:20260220T195720Z
LAST-MODIFIED:20260224T165427Z
UID:12581-1772713800-1772717400@womenleadglobal.org
SUMMARY:Transform Stress into Resilience - Leadership Roundtable
DESCRIPTION:The world can feel particularly heavy these days. Especially as women and nonbinary folks who already have so much on our shoulders. The Global Women in Leadership AllianceTM  and Yinergy Acupuncture want to help.\n\nIn honor of International Women’s Day\, we’re coming together to learn from Dr. Hannah Zeleznikar\, L.Ac\, owner of Yinergy Acupuncture in Minneapolis. She’ll share practical acupressure and nutrition tools you can use yourself to help manage stress and build resilience.\n\nThis is for the overachieving women leaders who know burnout is real and are ready for better tools. Full transparency: I’m not just hosting this one — I’m a patient of our speaker\, Dr. Hannah. Her work has genuinely changed how I manage stress and show up as a leader and I’m excited to share her wisdom with you!\n\nEVENT DETAILS: \nAgenda\n\n 	\n Global Women in Leadership Alliance™  Overview Morgan Berg\, Regional Director and Lucy Jeffrey B.ED\, President and CEO\n\n 	\nKeynote: “Transforming Stress into Resilience using Traditional Chinese Medicine” Dr. Hannah Zeleznikar\, L.Ac\, owner of Yinergy Acupuncture\n 	\nFacilitator-led breakout groups \n 	\nReconvene for large group sharing\n 	\nClose\n\n \nAccess\n\n 	\nZoom Link: To be provided to those registered\n 	\n\n\n\nNotes\n\n 	\nThis session will not be recorded. The Global Women in Leadership Alliance doesn’t record events because we aim to create a safe space for women and nonbinary folks to share their stories\, struggles\, and wisdom without the fear of it being shared with the world.\n 	\nPlease be prepared for cameras on\, if at all possible.\n\n\nI look forward to seeing you all there!\n\nKindly\,\nMorgan Berg\n\nRegional Director — Minnesota\, USA\nGlobal Women in Leadership AllianceTM\n612.810.0107\n\nAdvancing Women Leaders – Globally\nSite: Global Women in Leadership Alliance — Minnesota \n 
URL:https://womenleadglobal.org/event/transform-stress-into-resilience-leadership-roundtable/
CATEGORIES:Speaker Series
ATTACH;FMTTYPE=image/png:https://womenleadglobal.org/wp-content/uploads/2026/02/GWILA-SPEAKER-SERIES-4.png
END:VEVENT
BEGIN:VEVENT
DTSTART;TZID=America/Toronto:20260211T123000
DTEND;TZID=America/Toronto:20260211T133000
DTSTAMP:20260421T213309
CREATED:20260220T211209Z
LAST-MODIFIED:20260222T125240Z
UID:12594-1770813000-1770816600@womenleadglobal.org
SUMMARY:Redefining Success beyond titles\, revenue & roles
DESCRIPTION:-60Days\n				-4Hours\n				-1Minutes\n				-46Seconds\n			\n\n\nI’m excited to personally invite you to the February session of the Global Women in Leadership Alliance TM.\n\nThis is a cohort-based leadership experience designed for women leaders to connect with peer a their level\, engage in practical leadership conversations\, and build meaningful\, trusted relationships.\n\nFebruary Session Details\nSession: Redefining Success beyond titles\, revenue & roles\nDate: Wednesday\, February 11\, 2026\nTime: 12:30 – 1:30 PM EST (11:30 -12:30 CT)\nFormat: Virtual (Zoom)\nWho It’s For: Women business owners\, executives\, and emerging leaders\n\nZoom Link: To be provided to those registered\n\n \nDr. Amber Simpson\nRegional Director\, Missouri\, USA\nGlobal Women in Leadership Alliance™\nhttps://missouri.womenleadglobal.org/
URL:https://womenleadglobal.org/event/redefining-success-beyond-titles-revenue-roles/
CATEGORIES:Speaker Series
ATTACH;FMTTYPE=image/png:https://womenleadglobal.org/wp-content/uploads/2026/02/GWILA-Monthly-Speaker-Series-2026-1.png
END:VEVENT
BEGIN:VEVENT
DTSTART;VALUE=DATE:20260126
DTEND;VALUE=DATE:20260127
DTSTAMP:20260421T213309
CREATED:20260314T180316Z
LAST-MODIFIED:20260314T182513Z
UID:12741-1769385600-1769471999@womenleadglobal.org
SUMMARY:Become a Self Published Author in 2026 | Self-Publishing Masterclass for Women Leaders
DESCRIPTION:Dear Leaders\,\nAs women in leadership\, we carry powerful stories\, insights\, and expertise that deserve to be documented\, published\, and shared with the world. Your book is not just pages and chapters—it is your voice\, legacy\, and leadership in print.\nWe are excited to invite you to the upcoming Self-Publishing Masterclass by Global Women in Leadership Alliance™\, designed specifically for women who are ready to become published authors and use their books to elevate their influence\, credibility\, and impact.\n\n\n\nThree Ways to Join the Self-Publishing Masterclass\nYou can choose the option that best fits your schedule and learning style:\n 1. Live Group Masterclass – January (Cohort-Based)\nWe will be running two live group cohorts:\n\n 	\nCohort 1: Second week of January 2026\n 	\nCohort 2: Last week of January 2026\n\nThese sessions will be held virtually on Zoom and will cover the full step-by-step journey:\n\n 	\nClarifying your book idea and audience\n 	\nCreating your outline and writing structure\n 	\nEditing and polishing your manuscript\n 	\nCover design and interior formatting\n 	\nSetting up on Amazon KDP and other platforms\n 	\nLaunching and marketing your book with confidence\n\nYou’ll learn in a supportive community of women leaders\, with time for Q&A\, discussion\, and accountability.\n\n\n\n2.  One-on-One Author Mentorship (Limited Spots)\nIf you prefer personalized guidance\, you can choose one-on-one support\, where we walk with you closely through:\n\n 	\nDeveloping your unique book concept\n 	\nRefining your chapters and message\n 	\nReviewing your cover\, blurb\, and launch plan\n 	\nCreating a tailored publishing and visibility strategy\n\nThis is ideal for executives\, professionals\, and women who want a high-touch\, customized experience.\n\n\n\n3.  Self-Study / Self-Reading Option – Start Anytime\nIf you prefer to learn at your own pace\, you can choose the Self-Study Masterclass.\nWith this option:\n\n 	\nYou can start right away\, anytime\n 	\nAll materials (training modules\, worksheets\, templates\, and guides) will be sent to you for self-reading and implementation\n 	\nYou move at your own speed\, on your own schedule\n\nThis is perfect if your schedule is full\, but you are determined to become a published author in 2026.\n\n\n\n What You’ll Walk Away With\nBy the end of the Masterclass\, you will have:\n\n 	\nA clear and compelling book idea and outline\n 	\nYour first chapter drafted (or more!)\n 	\nA strong working title and subtitle\n 	\nA draft of your back cover blurb\n 	\nA clear understanding of how to publish on Amazon and other platforms\n 	\nA roadmap to launch and market your book\n\nAnd most importantly\, you will be much closer to holding your own book in your hands.\nPlease review the attached Masterclass module and training guideline and reply indicating the option you prefer.\n\nOther training\nIf you are not interested in publishing a book\, please review our detailed training and service offering and let me know what you want to accomplish in 2026 and we will work with you to achieve the goal. https://womenleadglobal.org/services/\n \nCalling all Coaches\, Trainers\, Speakers\nPlease reply and let me know what you train/speak on so I can help you to achieve your goals within this vast network of leaders. Our plan is to serve 1000 women leaders in 2026. Work with us to make it happen.\n\nCalling all leaders who wish to exercise your leadership skills by helping us to expand the network while making an income\nOur licensing model is the best platform to help you lead while supporting women to achieve the success you have achieved. Many use our licensing model to generate an income through memberships. Each licensee is assigned a territory all income from that territory is retained by the licensee on 100% basis. Here is our licensing model.https://womenleadglobal.org/membership-pricing/\n\nLet 2026 be the year that we all make a huge difference in our lives and those of others. I have created a robust platform that will make that happen\, jump in and build your vision.\n 
URL:https://womenleadglobal.org/event/self-publishing/
ATTACH;FMTTYPE=image/png:https://womenleadglobal.org/wp-content/uploads/2026/03/Self-Publishing.png
ORGANIZER;CN="Lucy Jeffrey":MAILTO:lucy@womenleadglobal.org
END:VEVENT
BEGIN:VEVENT
DTSTART;TZID=America/Toronto:20251204T100000
DTEND;TZID=America/Toronto:20251204T110000
DTSTAMP:20260421T213309
CREATED:20260222T130743Z
LAST-MODIFIED:20260222T130951Z
UID:12602-1764842400-1764846000@womenleadglobal.org
SUMMARY:Global Women in Leadership Alliance™ - 2025 Year end Virtual Summit
DESCRIPTION:Join powerful women in leadership from around the world for a high-impact\, one-hour summit followed by optional networking in intimate breakout rooms. We are anticipating that 50-100 women if not more will attend. Log in on time to meet them.\nAbout the Summit\nWomen are not just participating in the future — we are shaping it.\n\nThe Women in Leadership Forum™ Virtual Summit is a high-energy\, focused gathering designed for women who are ready to rise\, lead\, and influence at higher levels.\n\nIn just one powerful hour\, you will hear from inspiring women leaders across different sectors as they share strategies\, stories\, and insights on:\n\n 	Leading with courage and confidence\n 	Navigating change and uncertainty\n 	Expanding your influence and voice\n 	Building meaningful connections with other women leaders\n\nAfter the presentations\, you’ll have the option to join networking breakout rooms\, where you can connect\, collaborate\, and build relationships with women from different fields and locations.\n\n\n\nWho This Summit Is For\nThis summit is for you if you are:\n\n 	A woman in a leadership role in the private\, corporate or public sector \n 	A business owner\, executive\, manager\, or emerging leader\n 	A corporate professional who wants to grow her influence and visibility\n 	A woman who believes in women supporting women\n 	Someone ready to move from playing small to leading boldly\n\nWhether you are well-established or just stepping into leadership\, you belong in this space.\n\n\n\nWhat You’ll Experience\nIn this virtual summit\, you will:\n\n 	Hear short\, impactful presentations from powerful women leaders about their leadership journey.\n 	Gain practical strategies you can apply immediately in your leadership journey\n 	Be inspired by real stories of resilience\, growth\, and impact\n 	Connect in optional small breakout rooms for networking and collaboration\n 	Become part of a growing global movement of women in leadership\n\n\n\n\nSummit Theme & Discussion Focus\nMain Theme:\nLeading Without Limits: Rising Boldly in a Changing World\nWe will explore questions such as:\n\n 	How do women lead with confidence in environments that still underestimate them?\n 	What does “leading without limits” look like in your career\, business\, or public service?\n 	How can women collaborate instead of compete\, and create powerful networks of support?\n 	What bold step can you take in 2026 to move closer to your highest leadership potential?\n\nThese questions will guide the presentations and the networking discussions.\n\n\n\nAgenda\n10:00 – 10:05 a.m.\nWelcome & Opening Remarks – Women in Leadership Forum™\n\n10:05 – 10:45 a.m.\nPower Presentations by Featured Women Leaders\n\n 	Leadership in times of change\n 	Owning your voice and visibility\n 	Turning challenges into opportunities\n 	Collaboration over competition\n\n10:45 – 11:00 a.m.\nReflections\, Takeaways & Call to Action\n\n11:00 – 11:30 a.m. (Optional)\nNetworking Breakout Rooms –\nSmall group conversations to connect\, share\, and build relationships.\n\n\n\n Invite Another Woman\nFeel free to invite other women to this summit. It is open for all women in leadership both on public and private sector.\n\n\n\n Why This Summit Matters\nThis is more than a virtual event—\nit is part of a global movement to empower women in leadership.\n\nWhen women rise\, communities rise.\nWhen women lead boldly\, the world changes.\n\nThe Women in Leadership Forum™ exists to create spaces where women’s voices are heard\, amplified\, and celebrated—across borders and across sectors.\n\nYou are invited to be part of this moment.\n\n \n\nJoin us on Thursday\, December 4\, 2025 for a powerful\, uplifting\, and action-oriented experience designed just for women in leadership like you.\n Zoom Link: To be provided to those registered\nWarm Regards\nLucy Jeffrey \nFounder and Executive Director \nhttps://womenleadglobal.org/
URL:https://womenleadglobal.org/event/global-women-in-leadership-alliance-year-end-virtual-summit/
CATEGORIES:Speaker Series
ATTACH;FMTTYPE=image/png:https://womenleadglobal.org/wp-content/uploads/2025/12/Dec-2025-Speaker.png
END:VEVENT
BEGIN:VEVENT
DTSTART;TZID=America/Toronto:20201119T173000
DTEND;TZID=America/Toronto:20201119T193000
DTSTAMP:20260421T213309
CREATED:20201025T032857Z
LAST-MODIFIED:20260222T131202Z
UID:5319-1605807000-1605814200@womenleadglobal.org
SUMMARY:Professional Women in Leadership Canada (PWLC)
DESCRIPTION:About this Event\n\n\n\nT.E.N\nWelcome to Women’s Club\n\n\n\nThe Entrepreneur Women’s Club is a powerful department of The Entrepreneur Nation (T.E.N). We host empowering training and networking evenings once a month.\nThere is space for everyone. We look forward to attracting serious women entrepreneurs at all levels.\nOur mandate is to grow the Women’s Club. We have excellent ideas to grow this department.\nWomen entrepreneurs are welcome to be part of the club. We have training lined up to help you grow your business.
URL:https://womenleadglobal.org/event/masonville-chapter/
LOCATION:London Ontario\, Online Event
CATEGORIES:Clubs
ATTACH;FMTTYPE=image/png:https://womenleadglobal.org/wp-content/uploads/2020/10/1.png
END:VEVENT
BEGIN:VEVENT
DTSTART;TZID=America/Toronto:20200922T080000
DTEND;TZID=America/Toronto:20200922T090000
DTSTAMP:20260421T213309
CREATED:20201028T101725Z
LAST-MODIFIED:20260222T130131Z
UID:5410-1600761600-1600765200@womenleadglobal.org
SUMMARY:Summit Club
DESCRIPTION:The Entrepreneur Nation™ is founded on the principle that genuine\, trusting\, and prolonged relationships are the source of any business.\n\nThe Entrepreneur Nation™refines the concepts of networking and business gathering by creating the environments for the members to be encouraged to build those relationships.\n\nThe Zoom link will be sent out to members and invited guests through Eventbrite email.\n\nEVENT HOST: \nLucy Jeffrey – CEO of The Entrepreneur Nation™ \nCHAPTER CHAIR \nDani Hanna\, Mortgage Broker and Corporate Sponsor of The Entrepreneur Nation™ \n\n\n\nLOCATION: \nThis is an online meeting. The Zoom meeting link will be sent to our members and eligible guests a day before the meeting. \nELIGIBILITY CRITERIA \nOur chapter meetings are exclusive per industry and or business type. Guests are welcome but call Lucy first to verify if a seat for your type of business is vacant. 519.709.5139 \n\n\n\nPHOTOS AND VIDEO\nWe take photos and videos at all our events and use them on our social media sites as well as in The Entrepreneur Magazine. If you do not wish to have your photo taken do not hesitate to let the event managers know upon arrival. \nOUR SOCIAL MEDIA COMMUNITY\n\nYou can also find us in The Entrepreneur Nation’s Group. Connect with us here:\n\nhttps://www.facebook.com/groups/theentrepreneurnation/
URL:https://womenleadglobal.org/event/masonville-chapter-2/
ATTACH;FMTTYPE=image/png:https://womenleadglobal.org/wp-content/uploads/2020/10/2.png
END:VEVENT
END:VCALENDAR